BEGIN:VCALENDAR
VERSION:2.0
PRODID:www.winnehermann.de
METHOD:PUBLISH
BEGIN:VTIMEZONE
TZID:Europe/Berlin
X-LIC-LOCATION:Europe/Berlin
BEGIN:DAYLIGHT
TZOFFSETFROM:+0100
TZOFFSETTO:+0200
TZNAME:CEST
DTSTART:19700329T020000
RRULE:FREQ=YEARLY;INTERVAL=1;BYDAY=-1SU;BYMONTH=3
END:DAYLIGHT
BEGIN:STANDARD
TZOFFSETFROM:+0200
TZOFFSETTO:+0100
TZNAME:CET
DTSTART:19701025T030000
RRULE:FREQ=YEARLY;INTERVAL=1;BYDAY=-1SU;BYMONTH=10
END:STANDARD
END:VTIMEZONE
BEGIN:VEVENT
UID:0135be6edae5806ec6b6b9bc1895616e@www.winnehermann.de
URL;VALUE=URI:https://www.winnehermann.de/termine/plenum-17/
LOCATION:
SUMMARY:Plenum
DESCRIPTION;ALTREP="data:text/html,":
CLASS:PUBLIC
DTSTART;TZID=Europe/Berlin:20250130T093000
DTEND;TZID=Europe/Berlin:20250130T103000
DTSTAMP:20260421T100227
END:VEVENT
END:VCALENDAR