BEGIN:VCALENDAR
VERSION:2.0
PRODID:www.winnehermann.de
METHOD:PUBLISH
BEGIN:VTIMEZONE
TZID:Europe/Berlin
X-LIC-LOCATION:Europe/Berlin
BEGIN:DAYLIGHT
TZOFFSETFROM:+0100
TZOFFSETTO:+0200
TZNAME:CEST
DTSTART:19700329T020000
RRULE:FREQ=YEARLY;INTERVAL=1;BYDAY=-1SU;BYMONTH=3
END:DAYLIGHT
BEGIN:STANDARD
TZOFFSETFROM:+0200
TZOFFSETTO:+0100
TZNAME:CET
DTSTART:19701025T030000
RRULE:FREQ=YEARLY;INTERVAL=1;BYDAY=-1SU;BYMONTH=10
END:STANDARD
END:VTIMEZONE
BEGIN:VEVENT
UID:bead4e0f0ea6dc497f217b645efd81a4@www.winnehermann.de
URL;VALUE=URI:https://www.winnehermann.de/termine/neujahrsempfang-der-lan
 desregierung-in-bruessel/
LOCATION:Brüssel
SUMMARY:Neujahrsempfang der Landesregierung in Brüssel
DESCRIPTION;ALTREP="data:text/html,Neujahrsempfang%20der%20Landesregierun
 g%20in%20Br%C3%BCssel":Neujahrsempfang der Landesregierung in Brüssel
CLASS:PUBLIC
DTSTART;TZID=Europe/Berlin:20250204T180000
DTEND;TZID=Europe/Berlin:20250204T190000
DTSTAMP:20260421T095527
END:VEVENT
END:VCALENDAR