BEGIN:VCALENDAR
VERSION:2.0
PRODID:www.winnehermann.de
METHOD:PUBLISH
BEGIN:VTIMEZONE
TZID:Europe/Berlin
X-LIC-LOCATION:Europe/Berlin
BEGIN:DAYLIGHT
TZOFFSETFROM:+0100
TZOFFSETTO:+0200
TZNAME:CEST
DTSTART:19700329T020000
RRULE:FREQ=YEARLY;INTERVAL=1;BYDAY=-1SU;BYMONTH=3
END:DAYLIGHT
BEGIN:STANDARD
TZOFFSETFROM:+0200
TZOFFSETTO:+0100
TZNAME:CET
DTSTART:19701025T030000
RRULE:FREQ=YEARLY;INTERVAL=1;BYDAY=-1SU;BYMONTH=10
END:STANDARD
END:VTIMEZONE
BEGIN:VEVENT
UID:fe674c0fef0da929b40035f2717bb641@www.winnehermann.de
URL;VALUE=URI:https://www.winnehermann.de/termine/ausbildung-gefluechtete
 r-bei-db-regio/
LOCATION:
SUMMARY:Ausbildung Geflüchteter bei DB Regio
DESCRIPTION;ALTREP="data:text/html,%3Cspan%20style%3D%22font-family%3A%20
 tahoma%2C%20arial%2C%20helvetica%2C%20sans-serif%22%3EStuttgart%3C%2Fspan
 %3E%0D%0A%0D%0A%3Cspan%20style%3D%22font-family%3A%20tahoma%2C%20arial%2C
 %20helvetica%2C%20sans-serif%22%3EPressetermin%20Ausbildung%20Gefl%C3%BCc
 hteter%20bei%20DB%20Regio%3C%2Fspan%3E":Stuttgart\n\nPressetermin Ausbild
 ung Geflüchteter bei DB Regio
CLASS:PUBLIC
DTSTART;TZID=Europe/Berlin:20221202T120000
DTEND;TZID=Europe/Berlin:20221202T130000
DTSTAMP:20260421T095225
END:VEVENT
END:VCALENDAR