BEGIN:VCALENDAR
VERSION:2.0
PRODID:www.winnehermann.de
METHOD:PUBLISH
BEGIN:VTIMEZONE
TZID:Europe/Berlin
X-LIC-LOCATION:Europe/Berlin
BEGIN:DAYLIGHT
TZOFFSETFROM:+0100
TZOFFSETTO:+0200
TZNAME:CEST
DTSTART:19700329T020000
RRULE:FREQ=YEARLY;INTERVAL=1;BYDAY=-1SU;BYMONTH=3
END:DAYLIGHT
BEGIN:STANDARD
TZOFFSETFROM:+0200
TZOFFSETTO:+0100
TZNAME:CET
DTSTART:19701025T030000
RRULE:FREQ=YEARLY;INTERVAL=1;BYDAY=-1SU;BYMONTH=10
END:STANDARD
END:VTIMEZONE
BEGIN:VEVENT
UID:954bcaef17cb26a5c735a663e3cec2dc@www.winnehermann.de
URL;VALUE=URI:https://www.winnehermann.de/termine/87-plenarsitzung/
LOCATION:
SUMMARY:87. Plenarsitzung
DESCRIPTION;ALTREP="data:text/html,Tagesordnung%3A%0D%0A%0D%0A%3Ca%20href
 %3D%22https%3A%2F%2Fwww.landtag-bw.de%2Ffiles%2Flive%2Fsites%2FLTBW%2Ffil
 es%2Fdokumente%2Ftagesordnungen%2F2024%2F2024-02-01_87_Plenarsitzung.pdf%
 22%20target%3D%22_blank%22%20rel%3D%22noopener%22%3Ehttps%3A%2F%2Fwww.lan
 dtag-bw.de%2Ffiles%2Flive%2Fsites%2FLTBW%2Ffiles%2Fdokumente%2Ftagesordnu
 ngen%2F2024%2F2024-02-01_87_Plenarsitzung.pdf%3C%2Fa%3E":Tagesordnung:\n\
 nhttps://www.landtag-bw.de/files/live/sites/LTBW/files/dokumente/tagesord
 nungen/2024/2024-02-01_87_Plenarsitzung.pdf
CLASS:PUBLIC
DTSTART;TZID=Europe/Berlin:20240201T093000
DTEND;TZID=Europe/Berlin:20240201T170000
DTSTAMP:20260421T101220
END:VEVENT
END:VCALENDAR